BEGIN:VCALENDAR
VERSION:2.0
PRODID:icalendar-ruby
CALSCALE:GREGORIAN
METHOD:PUBLISH
BEGIN:VEVENT
DTSTAMP:20260420T041345Z
UID:14-308352@gracemethodist.ca
DTSTART:20260419T160000Z
DTEND:20260419T170000Z
CLASS:PUBLIC
CREATED:20260317T121553
DESCRIPTION:Join us after Sunday services for a time of fellowship with our
  church family. Engage and reflect of the sermon's message while sharing r
 efreshments and a light lunch\, made with love.
LAST-MODIFIED:20260317T121553
LOCATION:World Vision Centre - 1 World Dr - Mississauga\, ON
SUMMARY:Coffee Fellowship
URL;VALUE=URI:https://gracemethodist.ca/events/coffee-fellowship/2026-04-19
ATTACH;FILENAME=Screenshot-2026-02-17-122810.png;FMTTYPE=image/png:https://
 dq5pwpg1q8ru0.cloudfront.net/2026/02/27/18/40/57/de2a5964-271a-42e3-a9a6-e
 0760abb64e6/Screenshot-2026-02-17-122810.png
END:VEVENT
END:VCALENDAR
