BEGIN:VCALENDAR
VERSION:2.0
PRODID:icalendar-ruby
CALSCALE:GREGORIAN
METHOD:PUBLISH
BEGIN:VEVENT
DTSTAMP:20260420T023853Z
UID:18-308392@gracemethodist.ca
DTSTART:20260419T160000Z
DTEND:20260419T163000Z
CLASS:PUBLIC
CREATED:20260412T152948
DESCRIPTION:All registered members of Grace Methodist Church are invited to
  attend our 2026 Society Meeting. Exciting new directions\, refreshed mand
 ates and budgets will be shared. Nominations for new Board members are ope
 n now. Approach Nomination Committee Bercy Palor or Robertha Grappy for mo
 re information. 
LAST-MODIFIED:20260412T152948
LOCATION:
SUMMARY:GMC Society Meeting
URL;VALUE=URI:https://gracemethodist.ca/events/gmc-society-meeting/2026-04-
 19
ATTACH;FILENAME=Screenshot-2026-04-12-153134.png;FMTTYPE=image/png:https://
 dq5pwpg1q8ru0.cloudfront.net/2026/04/12/19/29/48/9664fb4f-1a60-41c8-9d50-3
 002e9058b75/Screenshot-2026-04-12-153134.png
END:VEVENT
END:VCALENDAR
