BEGIN:VCALENDAR
VERSION:2.0
PRODID:icalendar-ruby
CALSCALE:GREGORIAN
METHOD:PUBLISH
BEGIN:VEVENT
DTSTAMP:20260420T054936Z
UID:11-308343@gracemethodist.ca
DTSTART:20260815T223000Z
DTEND:20260816T000000Z
CLASS:PUBLIC
CREATED:20260313T155022
DESCRIPTION:Cultivate your spiritual rhythm of praise and prayer to grow in
  dynamic and vibrant relationship with Jesus Christ. Join us for our first
  Rhythm &amp\; Breath Worship Night for an intimate hour of worship in son
 gs\, prayers and Scripture. 
LAST-MODIFIED:20260313T155022
LOCATION:World Vision Centre - 1 World Dr - Mississauga\, ON
SUMMARY:Rhythm & Breath Worship Night
URL;VALUE=URI:https://gracemethodist.ca/events/rhythm-breath-worship-night-
 -11/2026-08-15
ATTACH;FILENAME=unnamed.jpg;FMTTYPE=image/jpeg:https://dq5pwpg1q8ru0.cloudf
 ront.net/2026/02/26/21/29/15/1ae24217-9e1b-4bc7-b21a-7c02d63fb94a/unnamed.
 jpg
END:VEVENT
END:VCALENDAR
