BEGIN:VCALENDAR
VERSION:2.0
PRODID:icalendar-ruby
CALSCALE:GREGORIAN
METHOD:PUBLISH
BEGIN:VEVENT
DTSTAMP:20260420T060757Z
UID:8-308225@gracemethodist.ca
DTSTART:20260506T233000Z
DTEND:20260507T003000Z
CLASS:PUBLIC
CREATED:20260226T164049
DESCRIPTION:Join our Wednesday evening Zoom Bible Study with Pastor Ebby\, 
 where we can learn\, grow and engage as people of the book.\nSign up on th
 e Church notice board or us email at info@gracemethodist.ca to receive the
  direct meeting link.
LAST-MODIFIED:20260226T164049
LOCATION:Online Zoom Meeting
SUMMARY:Study with Ebby
URL;VALUE=URI:https://gracemethodist.ca/events/study-with-ebby/2026-05-06
ATTACH;FILENAME=Screenshot-2026-02-17-120101.png;FMTTYPE=image/png:https://
 dq5pwpg1q8ru0.cloudfront.net/2026/02/18/22/01/08/324addff-6e47-486d-852d-4
 fcf6e25af19/Screenshot-2026-02-17-120101.png
END:VEVENT
END:VCALENDAR
