BEGIN:VCALENDAR
VERSION:2.0
PRODID:icalendar-ruby
CALSCALE:GREGORIAN
METHOD:PUBLISH
BEGIN:VEVENT
DTSTAMP:20260420T055027Z
UID:5-308005@gracemethodist.ca
DTSTART:20260426T143000Z
DTEND:20260426T153000Z
CLASS:PUBLIC
CREATED:20260216T104616
DESCRIPTION:Sunday Worship
LAST-MODIFIED:20260216T104616
LOCATION:
SUMMARY:Sunday Worship
URL;VALUE=URI:https://gracemethodist.ca/events/sunday-worship/2026-04-26
END:VEVENT
END:VCALENDAR
