BEGIN:VCALENDAR
VERSION:2.0
PRODID:icalendar-ruby
CALSCALE:GREGORIAN
METHOD:PUBLISH
BEGIN:VEVENT
DTSTAMP:20260420T194807Z
UID:5-308014@gracemethodist.ca
DTSTART:20260628T143000Z
DTEND:20260628T153000Z
CLASS:PUBLIC
CREATED:20260216T104616
DESCRIPTION:Sunday Worship
LAST-MODIFIED:20260216T104616
LOCATION:
SUMMARY:Sunday Worship
URL;VALUE=URI:https://gracemethodist.ca/events/sunday-worship/2026-06-28
END:VEVENT
END:VCALENDAR
