BEGIN:VCALENDAR
VERSION:2.0
PRODID:icalendar-ruby
CALSCALE:GREGORIAN
METHOD:PUBLISH
BEGIN:VEVENT
DTSTAMP:20260420T072733Z
UID:13-308318@gracemethodist.ca
DTSTART:20260509T193500Z
DTEND:20260509T210000Z
CLASS:PUBLIC
CREATED:20260313T135237
DESCRIPTION:\nMeet new people and explore the Christian faith together. Alp
 ha is for anyone who’s curious.\n\n\nNo judgement\, no pressure. Each se
 ssion unpacks a big question of life\, faith\, and purpose\, and is design
 ed to spark conversation.\n\n\nCome along\, see what you think.\n
LAST-MODIFIED:20260313T135237
LOCATION:World Vision Centre - 1 World Dr - Mississauga\, ON
SUMMARY:This is Alpha
URL;VALUE=URI:https://gracemethodist.ca/events/this-is-alpha--13/2026-05-09
ATTACH;FILENAME=Screenshot-2026-02-26-164958.png;FMTTYPE=image/png:https://
 dq5pwpg1q8ru0.cloudfront.net/2026/02/26/22/24/00/d5af6f14-8863-4bb6-9a70-d
 f44a4dff587/Screenshot-2026-02-26-164958.png
END:VEVENT
END:VCALENDAR
